BEGIN:VCALENDAR
VERSION:2.0
PRODID:JMS Hockey
X-PUBLISHED-TTL:P1W
BEGIN:VEVENT
UID:69e7c362c8395
DTSTART:20110610T024500Z
SEQUENCE:0
TRANSP:OPAQUE
DTEND:20110610T041500Z
URL:http://jmshockey.com/games/2670
LOCATION:St Louis Park Rec Center
SUMMARY:Level 3 Game at St Louis Park Rec Center
CLASS:PUBLIC
DTSTAMP:20260421T133514Z
END:VEVENT
END:VCALENDAR