BEGIN:VCALENDAR
VERSION:2.0
PRODID:JMS Hockey
X-PUBLISHED-TTL:P1W
BEGIN:VEVENT
UID:69e7d4914c970
DTSTART:20110421T023000Z
SEQUENCE:0
TRANSP:OPAQUE
DTEND:20110421T040000Z
URL:http://jmshockey.com/games/2664
LOCATION:St Louis Park Rec Center
SUMMARY:Level 3 Game at St Louis Park Rec Center
CLASS:PUBLIC
DTSTAMP:20260421T144833Z
END:VEVENT
END:VCALENDAR