BEGIN:VCALENDAR
VERSION:2.0
PRODID:JMS Hockey
X-PUBLISHED-TTL:P1W
BEGIN:VEVENT
UID:69e7b3999a90c
DTSTART:20110316T013000Z
SEQUENCE:0
TRANSP:OPAQUE
DTEND:20110316T030000Z
URL:http://jmshockey.com/games/2657
LOCATION:Polar Arena
SUMMARY:Level 2 Game at Polar Arena
CLASS:PUBLIC
DTSTAMP:20260421T122753Z
END:VEVENT
END:VCALENDAR