BEGIN:VCALENDAR
VERSION:2.0
PRODID:JMS Hockey
X-PUBLISHED-TTL:P1W
BEGIN:VEVENT
UID:69e7e6d580cc1
DTSTART:20110810T023000Z
SEQUENCE:0
TRANSP:OPAQUE
DTEND:20110810T040000Z
URL:http://jmshockey.com/games/2650
LOCATION:Roseville Skating Center
SUMMARY:Level 2 Game at Roseville Skating Center
CLASS:PUBLIC
DTSTAMP:20260421T160629Z
END:VEVENT
END:VCALENDAR