BEGIN:VCALENDAR
VERSION:2.0
PRODID:JMS Hockey
X-PUBLISHED-TTL:P1W
BEGIN:VEVENT
UID:69e7d5213f8bc
DTSTART:20110609T011500Z
SEQUENCE:0
TRANSP:OPAQUE
DTEND:20110609T024500Z
URL:http://jmshockey.com/games/2627
LOCATION:Roseville Skating Center
SUMMARY:Level 2 Game at Roseville Skating Center
CLASS:PUBLIC
DTSTAMP:20260421T145057Z
END:VEVENT
END:VCALENDAR