BEGIN:VCALENDAR
VERSION:2.0
PRODID:JMS Hockey
X-PUBLISHED-TTL:P1W
BEGIN:VEVENT
UID:69e7e66d69780
DTSTART:20090113T030000Z
SEQUENCE:0
TRANSP:OPAQUE
DTEND:20090113T043000Z
URL:http://jmshockey.com/games/262
LOCATION:Eden Prairie Comm Ctr
SUMMARY:Level 3 Game at Eden Prairie Comm Ctr
CLASS:PUBLIC
DTSTAMP:20260421T160445Z
END:VEVENT
END:VCALENDAR