BEGIN:VCALENDAR
VERSION:2.0
PRODID:JMS Hockey
X-PUBLISHED-TTL:P1W
BEGIN:VEVENT
UID:69e9e8754f016
DTSTART:20110504T023000Z
SEQUENCE:0
TRANSP:OPAQUE
DTEND:20110504T040000Z
URL:http://jmshockey.com/games/2617
LOCATION:Roseville Skating Center
SUMMARY:Level 3 Game at Roseville Skating Center
CLASS:PUBLIC
DTSTAMP:20260423T043757Z
END:VEVENT
END:VCALENDAR