BEGIN:VCALENDAR
VERSION:2.0
PRODID:JMS Hockey
X-PUBLISHED-TTL:P1W
BEGIN:VEVENT
UID:69e7ba0a52402
DTSTART:20110527T020000Z
SEQUENCE:0
TRANSP:OPAQUE
DTEND:20110527T033000Z
URL:http://jmshockey.com/games/2616
LOCATION:Plymouth Ice Center
SUMMARY:All level Game at Plymouth Ice Center
CLASS:PUBLIC
DTSTAMP:20260421T125522Z
END:VEVENT
END:VCALENDAR