BEGIN:VCALENDAR
VERSION:2.0
PRODID:JMS Hockey
X-PUBLISHED-TTL:P1W
BEGIN:VEVENT
UID:69e7bd7020987
DTSTART:20110520T010000Z
SEQUENCE:0
TRANSP:OPAQUE
DTEND:20110520T023000Z
URL:http://jmshockey.com/games/2615
LOCATION:Plymouth Ice Center
SUMMARY:All level Game at Plymouth Ice Center
CLASS:PUBLIC
DTSTAMP:20260421T130952Z
END:VEVENT
END:VCALENDAR