BEGIN:VCALENDAR
VERSION:2.0
PRODID:JMS Hockey
X-PUBLISHED-TTL:P1W
BEGIN:VEVENT
UID:69e7961f430a6
DTSTART:20110319T021500Z
SEQUENCE:0
TRANSP:OPAQUE
DTEND:20110319T034500Z
URL:http://jmshockey.com/games/2608
LOCATION:Parade Ice Gardens
SUMMARY:Level 4 Game at Parade Ice Gardens
CLASS:PUBLIC
DTSTAMP:20260421T102207Z
END:VEVENT
END:VCALENDAR