BEGIN:VCALENDAR
VERSION:2.0
PRODID:JMS Hockey
X-PUBLISHED-TTL:P1W
BEGIN:VEVENT
UID:69e7f02c1fd08
DTSTART:20110326T020000Z
SEQUENCE:0
TRANSP:OPAQUE
DTEND:20110326T033000Z
URL:http://jmshockey.com/games/2595
LOCATION:Roseville Skating Center
SUMMARY:Level 3 Game at Roseville Skating Center
CLASS:PUBLIC
DTSTAMP:20260421T164620Z
END:VEVENT
END:VCALENDAR