BEGIN:VCALENDAR
VERSION:2.0
PRODID:JMS Hockey
X-PUBLISHED-TTL:P1W
BEGIN:VEVENT
UID:69e7d4bbe6d0b
DTSTART:20110610T023000Z
SEQUENCE:0
TRANSP:OPAQUE
DTEND:20110610T040000Z
URL:http://jmshockey.com/games/2571
LOCATION:Breck Anderson Arena
SUMMARY:Level 2 Game at Breck Anderson Arena
CLASS:PUBLIC
DTSTAMP:20260421T144915Z
END:VEVENT
END:VCALENDAR