BEGIN:VCALENDAR
VERSION:2.0
PRODID:JMS Hockey
X-PUBLISHED-TTL:P1W
BEGIN:VEVENT
UID:69e7c13d1a057
DTSTART:20110503T023000Z
SEQUENCE:0
TRANSP:OPAQUE
DTEND:20110503T040000Z
URL:http://jmshockey.com/games/2562
LOCATION:Breck Anderson Arena
SUMMARY:Level 1 Game at Breck Anderson Arena
CLASS:PUBLIC
DTSTAMP:20260421T132605Z
END:VEVENT
END:VCALENDAR