BEGIN:VCALENDAR
VERSION:2.0
PRODID:JMS Hockey
X-PUBLISHED-TTL:P1W
BEGIN:VEVENT
UID:69e7d7d2e8d6e
DTSTART:20090106T034500Z
SEQUENCE:0
TRANSP:OPAQUE
DTEND:20090106T051500Z
URL:http://jmshockey.com/games/255
LOCATION:Bloomington Ice Gardens
SUMMARY:Level 3 Game at Bloomington Ice Gardens
CLASS:PUBLIC
DTSTAMP:20260421T150226Z
END:VEVENT
END:VCALENDAR