BEGIN:VCALENDAR
VERSION:2.0
PRODID:JMS Hockey
X-PUBLISHED-TTL:P1W
BEGIN:VEVENT
UID:69e7d62fa4cf8
DTSTART:20110416T020000Z
SEQUENCE:0
TRANSP:OPAQUE
DTEND:20110416T033000Z
URL:http://jmshockey.com/games/2545
LOCATION:Richfield Ice Arena
SUMMARY:Level 2 Game at Richfield Ice Arena
CLASS:PUBLIC
DTSTAMP:20260421T145527Z
END:VEVENT
END:VCALENDAR