BEGIN:VCALENDAR
VERSION:2.0
PRODID:JMS Hockey
X-PUBLISHED-TTL:P1W
BEGIN:VEVENT
UID:69e7c379698d2
DTSTART:20110514T031500Z
SEQUENCE:0
TRANSP:OPAQUE
DTEND:20110514T044500Z
URL:http://jmshockey.com/games/2540
LOCATION:St Louis Park Rec Center
SUMMARY:Level 2 Game at St Louis Park Rec Center
CLASS:PUBLIC
DTSTAMP:20260421T133537Z
END:VEVENT
END:VCALENDAR