BEGIN:VCALENDAR
VERSION:2.0
PRODID:JMS Hockey
X-PUBLISHED-TTL:P1W
BEGIN:VEVENT
UID:69e7cba2bbe09
DTSTART:20110511T004500Z
SEQUENCE:0
TRANSP:OPAQUE
DTEND:20110511T021500Z
URL:http://jmshockey.com/games/2538
LOCATION:St Louis Park Rec Center
SUMMARY:Level 4 Game at St Louis Park Rec Center
CLASS:PUBLIC
DTSTAMP:20260421T141026Z
END:VEVENT
END:VCALENDAR