BEGIN:VCALENDAR
VERSION:2.0
PRODID:JMS Hockey
X-PUBLISHED-TTL:P1W
BEGIN:VEVENT
UID:69e7e8fb584f7
DTSTART:20090115T014500Z
SEQUENCE:0
TRANSP:OPAQUE
DTEND:20090115T031500Z
URL:http://jmshockey.com/games/252
LOCATION:Xcel Energy Center
SUMMARY:Level 3 Game at Xcel Energy Center
CLASS:PUBLIC
DTSTAMP:20260421T161539Z
END:VEVENT
END:VCALENDAR