BEGIN:VCALENDAR
VERSION:2.0
PRODID:JMS Hockey
X-PUBLISHED-TTL:P1W
BEGIN:VEVENT
UID:69e7c74117794
DTSTART:20110326T013000Z
SEQUENCE:0
TRANSP:OPAQUE
DTEND:20110326T030000Z
URL:http://jmshockey.com/games/2519
LOCATION:St Louis Park Rec Center
SUMMARY:Level 1 Game at St Louis Park Rec Center
CLASS:PUBLIC
DTSTAMP:20260421T135145Z
END:VEVENT
END:VCALENDAR