BEGIN:VCALENDAR
VERSION:2.0
PRODID:JMS Hockey
X-PUBLISHED-TTL:P1W
BEGIN:VEVENT
UID:69e7f010a91f0
DTSTART:20110319T031500Z
SEQUENCE:0
TRANSP:OPAQUE
DTEND:20110319T044500Z
URL:http://jmshockey.com/games/2517
LOCATION:St Louis Park Rec Center
SUMMARY:Level 3 Game at St Louis Park Rec Center
CLASS:PUBLIC
DTSTAMP:20260421T164552Z
END:VEVENT
END:VCALENDAR