BEGIN:VCALENDAR
VERSION:2.0
PRODID:JMS Hockey
X-PUBLISHED-TTL:P1W
BEGIN:VEVENT
UID:69e7c3cad3d97
DTSTART:20110830T024000Z
SEQUENCE:0
TRANSP:OPAQUE
DTEND:20110830T041000Z
URL:http://jmshockey.com/games/2509
LOCATION:St Thomas Ice Arena
SUMMARY:Upper Level Game at St Thomas Ice Arena
CLASS:PUBLIC
DTSTAMP:20260421T133658Z
END:VEVENT
END:VCALENDAR