BEGIN:VCALENDAR
VERSION:2.0
PRODID:JMS Hockey
X-PUBLISHED-TTL:P1W
BEGIN:VEVENT
UID:69e7d2c1e5713
DTSTART:20110729T021000Z
SEQUENCE:0
TRANSP:OPAQUE
DTEND:20110729T034000Z
URL:http://jmshockey.com/games/2501
LOCATION:St Thomas Ice Arena
SUMMARY:All level Game at St Thomas Ice Arena
CLASS:PUBLIC
DTSTAMP:20260421T144049Z
END:VEVENT
END:VCALENDAR