BEGIN:VCALENDAR
VERSION:2.0
PRODID:JMS Hockey
X-PUBLISHED-TTL:P1W
BEGIN:VEVENT
UID:69e7d4df43ce4
DTSTART:20110708T021000Z
SEQUENCE:0
TRANSP:OPAQUE
DTEND:20110708T034000Z
URL:http://jmshockey.com/games/2495
LOCATION:St Thomas Ice Arena
SUMMARY:All level Game at St Thomas Ice Arena
CLASS:PUBLIC
DTSTAMP:20260421T144951Z
END:VEVENT
END:VCALENDAR