BEGIN:VCALENDAR
VERSION:2.0
PRODID:JMS Hockey
X-PUBLISHED-TTL:P1W
BEGIN:VEVENT
UID:69e7cadc50e8f
DTSTART:20110624T021000Z
SEQUENCE:0
TRANSP:OPAQUE
DTEND:20110624T034000Z
URL:http://jmshockey.com/games/2492
LOCATION:St Thomas Ice Arena
SUMMARY:All level Game at St Thomas Ice Arena
CLASS:PUBLIC
DTSTAMP:20260421T140708Z
END:VEVENT
END:VCALENDAR