BEGIN:VCALENDAR
VERSION:2.0
PRODID:JMS Hockey
X-PUBLISHED-TTL:P1W
BEGIN:VEVENT
UID:69e79a1d98471
DTSTART:20110621T020000Z
SEQUENCE:0
TRANSP:OPAQUE
DTEND:20110621T033000Z
URL:http://jmshockey.com/games/2484
LOCATION:Minnetonka Ice Arena
SUMMARY:Level 2 Game at Minnetonka Ice Arena
CLASS:PUBLIC
DTSTAMP:20260421T103909Z
END:VEVENT
END:VCALENDAR