BEGIN:VCALENDAR
VERSION:2.0
PRODID:JMS Hockey
X-PUBLISHED-TTL:P1W
BEGIN:VEVENT
UID:69e7a381396ea
DTSTART:20110614T020000Z
SEQUENCE:0
TRANSP:OPAQUE
DTEND:20110614T033000Z
URL:http://jmshockey.com/games/2483
LOCATION:Minnetonka Ice Arena
SUMMARY:Level 2 Game at Minnetonka Ice Arena
CLASS:PUBLIC
DTSTAMP:20260421T111913Z
END:VEVENT
END:VCALENDAR