BEGIN:VCALENDAR
VERSION:2.0
PRODID:JMS Hockey
X-PUBLISHED-TTL:P1W
BEGIN:VEVENT
UID:69e7c13ebb1bb
DTSTART:20110503T023000Z
SEQUENCE:0
TRANSP:OPAQUE
DTEND:20110503T040000Z
URL:http://jmshockey.com/games/2478
LOCATION:Minnetonka Ice Arena
SUMMARY:Level 2 Game at Minnetonka Ice Arena
CLASS:PUBLIC
DTSTAMP:20260421T132606Z
END:VEVENT
END:VCALENDAR