BEGIN:VCALENDAR
VERSION:2.0
PRODID:JMS Hockey
X-PUBLISHED-TTL:P1W
BEGIN:VEVENT
UID:69e7b35daac67
DTSTART:20110514T020000Z
SEQUENCE:0
TRANSP:OPAQUE
DTEND:20110514T033000Z
URL:http://jmshockey.com/games/2472
LOCATION:Fogerty Icehouse
SUMMARY:All level Game at Fogerty Icehouse
CLASS:PUBLIC
DTSTAMP:20260421T122653Z
END:VEVENT
END:VCALENDAR