BEGIN:VCALENDAR
VERSION:2.0
PRODID:JMS Hockey
X-PUBLISHED-TTL:P1W
BEGIN:VEVENT
UID:69e7cabb907f9
DTSTART:20110601T020000Z
SEQUENCE:0
TRANSP:OPAQUE
DTEND:20110601T033000Z
URL:http://jmshockey.com/games/2465
LOCATION:Inver Grove Heights Community Center
SUMMARY:Upper Level Game at Inver Grove Heights Community Center
CLASS:PUBLIC
DTSTAMP:20260421T140635Z
END:VEVENT
END:VCALENDAR