BEGIN:VCALENDAR
VERSION:2.0
PRODID:JMS Hockey
X-PUBLISHED-TTL:P1W
BEGIN:VEVENT
UID:69e7c341ea9de
DTSTART:20110518T020000Z
SEQUENCE:0
TRANSP:OPAQUE
DTEND:20110518T033000Z
URL:http://jmshockey.com/games/2462
LOCATION:Inver Grove Heights Community Center
SUMMARY:Upper Level Game at Inver Grove Heights Community Center
CLASS:PUBLIC
DTSTAMP:20260421T133441Z
END:VEVENT
END:VCALENDAR