BEGIN:VCALENDAR
VERSION:2.0
PRODID:JMS Hockey
X-PUBLISHED-TTL:P1W
BEGIN:VEVENT
UID:69e7a77a60320
DTSTART:20110505T020000Z
SEQUENCE:0
TRANSP:OPAQUE
DTEND:20110505T033000Z
URL:http://jmshockey.com/games/2459
LOCATION:Inver Grove Heights Community Center
SUMMARY:Lower Level Game at Inver Grove Heights Community Center
CLASS:PUBLIC
DTSTAMP:20260421T113610Z
END:VEVENT
END:VCALENDAR