BEGIN:VCALENDAR
VERSION:2.0
PRODID:JMS Hockey
X-PUBLISHED-TTL:P1W
BEGIN:VEVENT
UID:69e7ceb1f2c5c
DTSTART:20110427T020000Z
SEQUENCE:0
TRANSP:OPAQUE
DTEND:20110427T033000Z
URL:http://jmshockey.com/games/2457
LOCATION:Inver Grove Heights Community Center
SUMMARY:Upper Level Game at Inver Grove Heights Community Center
CLASS:PUBLIC
DTSTAMP:20260421T142330Z
END:VEVENT
END:VCALENDAR