BEGIN:VCALENDAR
VERSION:2.0
PRODID:JMS Hockey
X-PUBLISHED-TTL:P1W
BEGIN:VEVENT
UID:69e7e6a3207b1
DTSTART:20110414T015000Z
SEQUENCE:0
TRANSP:OPAQUE
DTEND:20110414T032000Z
URL:http://jmshockey.com/games/2455
LOCATION:Inver Grove Heights Community Center
SUMMARY:Lower Level Game at Inver Grove Heights Community Center
CLASS:PUBLIC
DTSTAMP:20260421T160539Z
END:VEVENT
END:VCALENDAR