BEGIN:VCALENDAR
VERSION:2.0
PRODID:JMS Hockey
X-PUBLISHED-TTL:P1W
BEGIN:VEVENT
UID:69e79a20d197e
DTSTART:20110413T020000Z
SEQUENCE:0
TRANSP:OPAQUE
DTEND:20110413T033000Z
URL:http://jmshockey.com/games/2454
LOCATION:Inver Grove Heights Community Center
SUMMARY:Upper Level Game at Inver Grove Heights Community Center
CLASS:PUBLIC
DTSTAMP:20260421T103912Z
END:VEVENT
END:VCALENDAR