BEGIN:VCALENDAR
VERSION:2.0
PRODID:JMS Hockey
X-PUBLISHED-TTL:P1W
BEGIN:VEVENT
UID:69e7c905c146e
DTSTART:20110406T020000Z
SEQUENCE:0
TRANSP:OPAQUE
DTEND:20110406T033000Z
URL:http://jmshockey.com/games/2452
LOCATION:Inver Grove Heights Community Center
SUMMARY:Upper Level Game at Inver Grove Heights Community Center
CLASS:PUBLIC
DTSTAMP:20260421T135917Z
END:VEVENT
END:VCALENDAR