BEGIN:VCALENDAR
VERSION:2.0
PRODID:JMS Hockey
X-PUBLISHED-TTL:P1W
BEGIN:VEVENT
UID:69e7c3685537a
DTSTART:20110317T024000Z
SEQUENCE:0
TRANSP:OPAQUE
DTEND:20110317T041000Z
URL:http://jmshockey.com/games/2434
LOCATION:Inver Grove Heights Community Center
SUMMARY:Lower Level Game at Inver Grove Heights Community Center
CLASS:PUBLIC
DTSTAMP:20260421T133520Z
END:VEVENT
END:VCALENDAR