BEGIN:VCALENDAR
VERSION:2.0
PRODID:JMS Hockey
X-PUBLISHED-TTL:P1W
BEGIN:VEVENT
UID:69e7e7ffe2fbf
DTSTART:20110309T030000Z
SEQUENCE:0
TRANSP:OPAQUE
DTEND:20110309T043000Z
URL:http://jmshockey.com/games/2431
LOCATION:Inver Grove Heights Community Center
SUMMARY:Upper Level Game at Inver Grove Heights Community Center
CLASS:PUBLIC
DTSTAMP:20260421T161127Z
END:VEVENT
END:VCALENDAR