BEGIN:VCALENDAR
VERSION:2.0
PRODID:JMS Hockey
X-PUBLISHED-TTL:P1W
BEGIN:VEVENT
UID:69e7d63293829
DTSTART:20110302T030000Z
SEQUENCE:0
TRANSP:OPAQUE
DTEND:20110302T043000Z
URL:http://jmshockey.com/games/2429
LOCATION:Inver Grove Heights Community Center
SUMMARY:Upper Level Game at Inver Grove Heights Community Center
CLASS:PUBLIC
DTSTAMP:20260421T145530Z
END:VEVENT
END:VCALENDAR