BEGIN:VCALENDAR
VERSION:2.0
PRODID:JMS Hockey
X-PUBLISHED-TTL:P1W
BEGIN:VEVENT
UID:69e7c6f9e89e3
DTSTART:20110319T020000Z
SEQUENCE:0
TRANSP:OPAQUE
DTEND:20110319T033000Z
URL:http://jmshockey.com/games/2424
LOCATION:Fogerty Icehouse
SUMMARY:All level Game at Fogerty Icehouse
CLASS:PUBLIC
DTSTAMP:20260421T135033Z
END:VEVENT
END:VCALENDAR