BEGIN:VCALENDAR
VERSION:2.0
PRODID:JMS Hockey
X-PUBLISHED-TTL:P1W
BEGIN:VEVENT
UID:69e7c367563f7
DTSTART:20110405T023000Z
SEQUENCE:0
TRANSP:OPAQUE
DTEND:20110405T040000Z
URL:http://jmshockey.com/games/2414
LOCATION:Breck Anderson Arena
SUMMARY:Level 1 Game at Breck Anderson Arena
CLASS:PUBLIC
DTSTAMP:20260421T133519Z
END:VEVENT
END:VCALENDAR