BEGIN:VCALENDAR
VERSION:2.0
PRODID:JMS Hockey
X-PUBLISHED-TTL:P1W
BEGIN:VEVENT
UID:69e7aa3f6c836
DTSTART:20110308T033000Z
SEQUENCE:0
TRANSP:OPAQUE
DTEND:20110308T050000Z
URL:http://jmshockey.com/games/2411
LOCATION:Breck Anderson Arena
SUMMARY:Level 1 Game at Breck Anderson Arena
CLASS:PUBLIC
DTSTAMP:20260421T114759Z
END:VEVENT
END:VCALENDAR