BEGIN:VCALENDAR
VERSION:2.0
PRODID:JMS Hockey
X-PUBLISHED-TTL:P1W
BEGIN:VEVENT
UID:69e7cb2c1abe4
DTSTART:20110212T041500Z
SEQUENCE:0
TRANSP:OPAQUE
DTEND:20110212T054500Z
URL:http://jmshockey.com/games/2408
LOCATION:St Louis Park Rec Center
SUMMARY:Level 4 Game at St Louis Park Rec Center
CLASS:PUBLIC
DTSTAMP:20260421T140828Z
END:VEVENT
END:VCALENDAR