BEGIN:VCALENDAR
VERSION:2.0
PRODID:JMS Hockey
X-PUBLISHED-TTL:P1W
BEGIN:VEVENT
UID:69e7cb53bd023
DTSTART:20110503T024000Z
SEQUENCE:0
TRANSP:OPAQUE
DTEND:20110503T041000Z
URL:http://jmshockey.com/games/2398
LOCATION:St Thomas Ice Arena
SUMMARY:Upper Level Game at St Thomas Ice Arena
CLASS:PUBLIC
DTSTAMP:20260421T140907Z
END:VEVENT
END:VCALENDAR