BEGIN:VCALENDAR
VERSION:2.0
PRODID:JMS Hockey
X-PUBLISHED-TTL:P1W
BEGIN:VEVENT
UID:69e7b59a4b00f
DTSTART:20110415T024000Z
SEQUENCE:0
TRANSP:OPAQUE
DTEND:20110415T041000Z
URL:http://jmshockey.com/games/2393
LOCATION:St Thomas Ice Arena
SUMMARY:All level Game at St Thomas Ice Arena
CLASS:PUBLIC
DTSTAMP:20260421T123626Z
END:VEVENT
END:VCALENDAR