BEGIN:VCALENDAR
VERSION:2.0
PRODID:JMS Hockey
X-PUBLISHED-TTL:P1W
BEGIN:VEVENT
UID:69e82d52ae2a3
DTSTART:20110412T024000Z
SEQUENCE:0
TRANSP:OPAQUE
DTEND:20110412T041000Z
URL:http://jmshockey.com/games/2392
LOCATION:St Thomas Ice Arena
SUMMARY:Upper Level Game at St Thomas Ice Arena
CLASS:PUBLIC
DTSTAMP:20260421T210714Z
END:VEVENT
END:VCALENDAR