BEGIN:VCALENDAR
VERSION:2.0
PRODID:JMS Hockey
X-PUBLISHED-TTL:P1W
BEGIN:VEVENT
UID:69e7d88e88e32
DTSTART:20110217T033000Z
SEQUENCE:0
TRANSP:OPAQUE
DTEND:20110217T050000Z
URL:http://jmshockey.com/games/2369
LOCATION:Inver Grove Heights Community Center
SUMMARY:Lower Level Game at Inver Grove Heights Community Center
CLASS:PUBLIC
DTSTAMP:20260421T150534Z
END:VEVENT
END:VCALENDAR