BEGIN:VCALENDAR
VERSION:2.0
PRODID:JMS Hockey
X-PUBLISHED-TTL:P1W
BEGIN:VEVENT
UID:69e7d0df30509
DTSTART:20110129T041500Z
SEQUENCE:0
TRANSP:OPAQUE
DTEND:20110129T054500Z
URL:http://jmshockey.com/games/2352
LOCATION:St Louis Park Rec Center
SUMMARY:Level 3 Game at St Louis Park Rec Center
CLASS:PUBLIC
DTSTAMP:20260421T143247Z
END:VEVENT
END:VCALENDAR