BEGIN:VCALENDAR
VERSION:2.0
PRODID:JMS Hockey
X-PUBLISHED-TTL:P1W
BEGIN:VEVENT
UID:69e85c2a94f29
DTSTART:20110319T021500Z
SEQUENCE:0
TRANSP:OPAQUE
DTEND:20110319T034500Z
URL:http://jmshockey.com/games/2339
LOCATION:Richfield Ice Arena
SUMMARY:Level 3 Game at Richfield Ice Arena
CLASS:PUBLIC
DTSTAMP:20260422T002706Z
END:VEVENT
END:VCALENDAR