BEGIN:VCALENDAR
VERSION:2.0
PRODID:JMS Hockey
X-PUBLISHED-TTL:P1W
BEGIN:VEVENT
UID:69e7cb32d6190
DTSTART:20110321T023000Z
SEQUENCE:0
TRANSP:OPAQUE
DTEND:20110321T040000Z
URL:http://jmshockey.com/games/2338
LOCATION:Richfield Ice Arena
SUMMARY:Level 2 Game at Richfield Ice Arena
CLASS:PUBLIC
DTSTAMP:20260421T140834Z
END:VEVENT
END:VCALENDAR