BEGIN:VCALENDAR
VERSION:2.0
PRODID:JMS Hockey
X-PUBLISHED-TTL:P1W
BEGIN:VEVENT
UID:69e7c37e808b8
DTSTART:20110305T030000Z
SEQUENCE:0
TRANSP:OPAQUE
DTEND:20110305T043000Z
URL:http://jmshockey.com/games/2335
LOCATION:Richfield Ice Arena
SUMMARY:Level 4 Game at Richfield Ice Arena
CLASS:PUBLIC
DTSTAMP:20260421T133542Z
END:VEVENT
END:VCALENDAR